BEGIN:VCALENDAR
VERSION:2.0
PRODID:-//New Beginnings - ECPv6.15.20//NONSGML v1.0//EN
CALSCALE:GREGORIAN
METHOD:PUBLISH
X-WR-CALNAME:New Beginnings
X-ORIGINAL-URL:https://newbeginnings.org
X-WR-CALDESC:Events for New Beginnings
REFRESH-INTERVAL;VALUE=DURATION:PT1H
X-Robots-Tag:noindex
X-PUBLISHED-TTL:PT1H
BEGIN:VTIMEZONE
TZID:UTC
BEGIN:STANDARD
TZOFFSETFROM:+0000
TZOFFSETTO:+0000
TZNAME:UTC
DTSTART:20270101T000000
END:STANDARD
END:VTIMEZONE
BEGIN:VEVENT
DTSTART;TZID=UTC:20280809T190000
DTEND;TZID=UTC:20280809T203000
DTSTAMP:20260421T124620
CREATED:20221207T035924Z
LAST-MODIFIED:20240416T185805Z
UID:10002677-1849460400-1849465800@newbeginnings.org
SUMMARY:Ignite High School Service
DESCRIPTION:
URL:https://newbeginnings.org/event/ignite-high-school/2028-08-09/
CATEGORIES:ignite
ATTACH;FMTTYPE=image/png:https://newbeginnings.org/wp-content/uploads/2022/12/youth-ignite-new.png
END:VEVENT
BEGIN:VEVENT
DTSTART;TZID=UTC:20280816T190000
DTEND;TZID=UTC:20280816T203000
DTSTAMP:20260421T124620
CREATED:20221207T035924Z
LAST-MODIFIED:20240416T185805Z
UID:10002678-1850065200-1850070600@newbeginnings.org
SUMMARY:Ignite High School Service
DESCRIPTION:
URL:https://newbeginnings.org/event/ignite-high-school/2028-08-16/
CATEGORIES:ignite
ATTACH;FMTTYPE=image/png:https://newbeginnings.org/wp-content/uploads/2022/12/youth-ignite-new.png
END:VEVENT
BEGIN:VEVENT
DTSTART;TZID=UTC:20280823T190000
DTEND;TZID=UTC:20280823T203000
DTSTAMP:20260421T124620
CREATED:20221207T035924Z
LAST-MODIFIED:20240416T185805Z
UID:10002679-1850670000-1850675400@newbeginnings.org
SUMMARY:Ignite High School Service
DESCRIPTION:
URL:https://newbeginnings.org/event/ignite-high-school/2028-08-23/
CATEGORIES:ignite
ATTACH;FMTTYPE=image/png:https://newbeginnings.org/wp-content/uploads/2022/12/youth-ignite-new.png
END:VEVENT
BEGIN:VEVENT
DTSTART;TZID=UTC:20280830T190000
DTEND;TZID=UTC:20280830T203000
DTSTAMP:20260421T124620
CREATED:20221207T035924Z
LAST-MODIFIED:20240416T185805Z
UID:10002680-1851274800-1851280200@newbeginnings.org
SUMMARY:Ignite High School Service
DESCRIPTION:
URL:https://newbeginnings.org/event/ignite-high-school/2028-08-30/
CATEGORIES:ignite
ATTACH;FMTTYPE=image/png:https://newbeginnings.org/wp-content/uploads/2022/12/youth-ignite-new.png
END:VEVENT
BEGIN:VEVENT
DTSTART;TZID=UTC:20280906T190000
DTEND;TZID=UTC:20280906T203000
DTSTAMP:20260421T124620
CREATED:20221207T035924Z
LAST-MODIFIED:20240416T185805Z
UID:10002681-1851879600-1851885000@newbeginnings.org
SUMMARY:Ignite High School Service
DESCRIPTION:
URL:https://newbeginnings.org/event/ignite-high-school/2028-09-06/
CATEGORIES:ignite
ATTACH;FMTTYPE=image/png:https://newbeginnings.org/wp-content/uploads/2022/12/youth-ignite-new.png
END:VEVENT
BEGIN:VEVENT
DTSTART;TZID=UTC:20280913T190000
DTEND;TZID=UTC:20280913T203000
DTSTAMP:20260421T124620
CREATED:20221207T035924Z
LAST-MODIFIED:20240416T185805Z
UID:10002682-1852484400-1852489800@newbeginnings.org
SUMMARY:Ignite High School Service
DESCRIPTION:
URL:https://newbeginnings.org/event/ignite-high-school/2028-09-13/
CATEGORIES:ignite
ATTACH;FMTTYPE=image/png:https://newbeginnings.org/wp-content/uploads/2022/12/youth-ignite-new.png
END:VEVENT
BEGIN:VEVENT
DTSTART;TZID=UTC:20280920T190000
DTEND;TZID=UTC:20280920T203000
DTSTAMP:20260421T124620
CREATED:20221207T035924Z
LAST-MODIFIED:20240416T185805Z
UID:10002683-1853089200-1853094600@newbeginnings.org
SUMMARY:Ignite High School Service
DESCRIPTION:
URL:https://newbeginnings.org/event/ignite-high-school/2028-09-20/
CATEGORIES:ignite
ATTACH;FMTTYPE=image/png:https://newbeginnings.org/wp-content/uploads/2022/12/youth-ignite-new.png
END:VEVENT
BEGIN:VEVENT
DTSTART;TZID=UTC:20280927T190000
DTEND;TZID=UTC:20280927T203000
DTSTAMP:20260421T124620
CREATED:20221207T035924Z
LAST-MODIFIED:20240416T185805Z
UID:10002684-1853694000-1853699400@newbeginnings.org
SUMMARY:Ignite High School Service
DESCRIPTION:
URL:https://newbeginnings.org/event/ignite-high-school/2028-09-27/
CATEGORIES:ignite
ATTACH;FMTTYPE=image/png:https://newbeginnings.org/wp-content/uploads/2022/12/youth-ignite-new.png
END:VEVENT
BEGIN:VEVENT
DTSTART;TZID=UTC:20281004T190000
DTEND;TZID=UTC:20281004T203000
DTSTAMP:20260421T124620
CREATED:20221207T035924Z
LAST-MODIFIED:20240416T185805Z
UID:10002685-1854298800-1854304200@newbeginnings.org
SUMMARY:Ignite High School Service
DESCRIPTION:
URL:https://newbeginnings.org/event/ignite-high-school/2028-10-04/
CATEGORIES:ignite
ATTACH;FMTTYPE=image/png:https://newbeginnings.org/wp-content/uploads/2022/12/youth-ignite-new.png
END:VEVENT
BEGIN:VEVENT
DTSTART;TZID=UTC:20281011T190000
DTEND;TZID=UTC:20281011T203000
DTSTAMP:20260421T124620
CREATED:20221207T035924Z
LAST-MODIFIED:20240416T185805Z
UID:10002686-1854903600-1854909000@newbeginnings.org
SUMMARY:Ignite High School Service
DESCRIPTION:
URL:https://newbeginnings.org/event/ignite-high-school/2028-10-11/
CATEGORIES:ignite
ATTACH;FMTTYPE=image/png:https://newbeginnings.org/wp-content/uploads/2022/12/youth-ignite-new.png
END:VEVENT
BEGIN:VEVENT
DTSTART;TZID=UTC:20281018T190000
DTEND;TZID=UTC:20281018T203000
DTSTAMP:20260421T124620
CREATED:20221207T035924Z
LAST-MODIFIED:20240416T185805Z
UID:10002687-1855508400-1855513800@newbeginnings.org
SUMMARY:Ignite High School Service
DESCRIPTION:
URL:https://newbeginnings.org/event/ignite-high-school/2028-10-18/
CATEGORIES:ignite
ATTACH;FMTTYPE=image/png:https://newbeginnings.org/wp-content/uploads/2022/12/youth-ignite-new.png
END:VEVENT
BEGIN:VEVENT
DTSTART;TZID=UTC:20281025T190000
DTEND;TZID=UTC:20281025T203000
DTSTAMP:20260421T124620
CREATED:20221207T035924Z
LAST-MODIFIED:20240416T185805Z
UID:10002688-1856113200-1856118600@newbeginnings.org
SUMMARY:Ignite High School Service
DESCRIPTION:
URL:https://newbeginnings.org/event/ignite-high-school/2028-10-25/
CATEGORIES:ignite
ATTACH;FMTTYPE=image/png:https://newbeginnings.org/wp-content/uploads/2022/12/youth-ignite-new.png
END:VEVENT
BEGIN:VEVENT
DTSTART;TZID=UTC:20281101T190000
DTEND;TZID=UTC:20281101T203000
DTSTAMP:20260421T124620
CREATED:20221207T035924Z
LAST-MODIFIED:20240416T185805Z
UID:10002689-1856718000-1856723400@newbeginnings.org
SUMMARY:Ignite High School Service
DESCRIPTION:
URL:https://newbeginnings.org/event/ignite-high-school/2028-11-01/
CATEGORIES:ignite
ATTACH;FMTTYPE=image/png:https://newbeginnings.org/wp-content/uploads/2022/12/youth-ignite-new.png
END:VEVENT
BEGIN:VEVENT
DTSTART;TZID=UTC:20281108T190000
DTEND;TZID=UTC:20281108T203000
DTSTAMP:20260421T124620
CREATED:20221207T035924Z
LAST-MODIFIED:20240416T185805Z
UID:10002690-1857322800-1857328200@newbeginnings.org
SUMMARY:Ignite High School Service
DESCRIPTION:
URL:https://newbeginnings.org/event/ignite-high-school/2028-11-08/
CATEGORIES:ignite
ATTACH;FMTTYPE=image/png:https://newbeginnings.org/wp-content/uploads/2022/12/youth-ignite-new.png
END:VEVENT
BEGIN:VEVENT
DTSTART;TZID=UTC:20281115T190000
DTEND;TZID=UTC:20281115T203000
DTSTAMP:20260421T124620
CREATED:20221207T035924Z
LAST-MODIFIED:20240416T185805Z
UID:10002691-1857927600-1857933000@newbeginnings.org
SUMMARY:Ignite High School Service
DESCRIPTION:
URL:https://newbeginnings.org/event/ignite-high-school/2028-11-15/
CATEGORIES:ignite
ATTACH;FMTTYPE=image/png:https://newbeginnings.org/wp-content/uploads/2022/12/youth-ignite-new.png
END:VEVENT
BEGIN:VEVENT
DTSTART;TZID=UTC:20281122T190000
DTEND;TZID=UTC:20281122T203000
DTSTAMP:20260421T124620
CREATED:20221207T035924Z
LAST-MODIFIED:20240416T185805Z
UID:10002692-1858532400-1858537800@newbeginnings.org
SUMMARY:Ignite High School Service
DESCRIPTION:
URL:https://newbeginnings.org/event/ignite-high-school/2028-11-22/
CATEGORIES:ignite
ATTACH;FMTTYPE=image/png:https://newbeginnings.org/wp-content/uploads/2022/12/youth-ignite-new.png
END:VEVENT
BEGIN:VEVENT
DTSTART;TZID=UTC:20281129T190000
DTEND;TZID=UTC:20281129T203000
DTSTAMP:20260421T124620
CREATED:20221207T035924Z
LAST-MODIFIED:20240416T185805Z
UID:10002693-1859137200-1859142600@newbeginnings.org
SUMMARY:Ignite High School Service
DESCRIPTION:
URL:https://newbeginnings.org/event/ignite-high-school/2028-11-29/
CATEGORIES:ignite
ATTACH;FMTTYPE=image/png:https://newbeginnings.org/wp-content/uploads/2022/12/youth-ignite-new.png
END:VEVENT
BEGIN:VEVENT
DTSTART;TZID=UTC:20281206T190000
DTEND;TZID=UTC:20281206T203000
DTSTAMP:20260421T124620
CREATED:20221207T035924Z
LAST-MODIFIED:20240416T185805Z
UID:10002694-1859742000-1859747400@newbeginnings.org
SUMMARY:Ignite High School Service
DESCRIPTION:
URL:https://newbeginnings.org/event/ignite-high-school/2028-12-06/
CATEGORIES:ignite
ATTACH;FMTTYPE=image/png:https://newbeginnings.org/wp-content/uploads/2022/12/youth-ignite-new.png
END:VEVENT
BEGIN:VEVENT
DTSTART;TZID=UTC:20281213T190000
DTEND;TZID=UTC:20281213T203000
DTSTAMP:20260421T124620
CREATED:20221207T035924Z
LAST-MODIFIED:20240416T185805Z
UID:10002695-1860346800-1860352200@newbeginnings.org
SUMMARY:Ignite High School Service
DESCRIPTION:
URL:https://newbeginnings.org/event/ignite-high-school/2028-12-13/
CATEGORIES:ignite
ATTACH;FMTTYPE=image/png:https://newbeginnings.org/wp-content/uploads/2022/12/youth-ignite-new.png
END:VEVENT
BEGIN:VEVENT
DTSTART;TZID=UTC:20281220T190000
DTEND;TZID=UTC:20281220T203000
DTSTAMP:20260421T124620
CREATED:20221207T035924Z
LAST-MODIFIED:20240416T185805Z
UID:10002696-1860951600-1860957000@newbeginnings.org
SUMMARY:Ignite High School Service
DESCRIPTION:
URL:https://newbeginnings.org/event/ignite-high-school/2028-12-20/
CATEGORIES:ignite
ATTACH;FMTTYPE=image/png:https://newbeginnings.org/wp-content/uploads/2022/12/youth-ignite-new.png
END:VEVENT
BEGIN:VEVENT
DTSTART;TZID=UTC:20281227T190000
DTEND;TZID=UTC:20281227T203000
DTSTAMP:20260421T124620
CREATED:20221207T035924Z
LAST-MODIFIED:20240416T185805Z
UID:10002697-1861556400-1861561800@newbeginnings.org
SUMMARY:Ignite High School Service
DESCRIPTION:
URL:https://newbeginnings.org/event/ignite-high-school/2028-12-27/
CATEGORIES:ignite
ATTACH;FMTTYPE=image/png:https://newbeginnings.org/wp-content/uploads/2022/12/youth-ignite-new.png
END:VEVENT
BEGIN:VEVENT
DTSTART;TZID=UTC:20290103T190000
DTEND;TZID=UTC:20290103T203000
DTSTAMP:20260421T124620
CREATED:20221207T035924Z
LAST-MODIFIED:20240416T185805Z
UID:10002698-1862161200-1862166600@newbeginnings.org
SUMMARY:Ignite High School Service
DESCRIPTION:
URL:https://newbeginnings.org/event/ignite-high-school/2029-01-03/
CATEGORIES:ignite
ATTACH;FMTTYPE=image/png:https://newbeginnings.org/wp-content/uploads/2022/12/youth-ignite-new.png
END:VEVENT
BEGIN:VEVENT
DTSTART;TZID=UTC:20290110T190000
DTEND;TZID=UTC:20290110T203000
DTSTAMP:20260421T124620
CREATED:20221207T035924Z
LAST-MODIFIED:20240416T185805Z
UID:10002699-1862766000-1862771400@newbeginnings.org
SUMMARY:Ignite High School Service
DESCRIPTION:
URL:https://newbeginnings.org/event/ignite-high-school/2029-01-10/
CATEGORIES:ignite
ATTACH;FMTTYPE=image/png:https://newbeginnings.org/wp-content/uploads/2022/12/youth-ignite-new.png
END:VEVENT
BEGIN:VEVENT
DTSTART;TZID=UTC:20290117T190000
DTEND;TZID=UTC:20290117T203000
DTSTAMP:20260421T124620
CREATED:20221207T035924Z
LAST-MODIFIED:20240416T185805Z
UID:10002700-1863370800-1863376200@newbeginnings.org
SUMMARY:Ignite High School Service
DESCRIPTION:
URL:https://newbeginnings.org/event/ignite-high-school/2029-01-17/
CATEGORIES:ignite
ATTACH;FMTTYPE=image/png:https://newbeginnings.org/wp-content/uploads/2022/12/youth-ignite-new.png
END:VEVENT
BEGIN:VEVENT
DTSTART;TZID=UTC:20290124T190000
DTEND;TZID=UTC:20290124T203000
DTSTAMP:20260421T124620
CREATED:20221207T035924Z
LAST-MODIFIED:20240416T185805Z
UID:10002701-1863975600-1863981000@newbeginnings.org
SUMMARY:Ignite High School Service
DESCRIPTION:
URL:https://newbeginnings.org/event/ignite-high-school/2029-01-24/
CATEGORIES:ignite
ATTACH;FMTTYPE=image/png:https://newbeginnings.org/wp-content/uploads/2022/12/youth-ignite-new.png
END:VEVENT
BEGIN:VEVENT
DTSTART;TZID=UTC:20290131T190000
DTEND;TZID=UTC:20290131T203000
DTSTAMP:20260421T124620
CREATED:20221207T035924Z
LAST-MODIFIED:20240416T185805Z
UID:10002702-1864580400-1864585800@newbeginnings.org
SUMMARY:Ignite High School Service
DESCRIPTION:
URL:https://newbeginnings.org/event/ignite-high-school/2029-01-31/
CATEGORIES:ignite
ATTACH;FMTTYPE=image/png:https://newbeginnings.org/wp-content/uploads/2022/12/youth-ignite-new.png
END:VEVENT
BEGIN:VEVENT
DTSTART;TZID=UTC:20290207T190000
DTEND;TZID=UTC:20290207T203000
DTSTAMP:20260421T124620
CREATED:20221207T035924Z
LAST-MODIFIED:20240416T185805Z
UID:10002703-1865185200-1865190600@newbeginnings.org
SUMMARY:Ignite High School Service
DESCRIPTION:
URL:https://newbeginnings.org/event/ignite-high-school/2029-02-07/
CATEGORIES:ignite
ATTACH;FMTTYPE=image/png:https://newbeginnings.org/wp-content/uploads/2022/12/youth-ignite-new.png
END:VEVENT
BEGIN:VEVENT
DTSTART;TZID=UTC:20290214T190000
DTEND;TZID=UTC:20290214T203000
DTSTAMP:20260421T124620
CREATED:20221207T035924Z
LAST-MODIFIED:20240416T185805Z
UID:10002704-1865790000-1865795400@newbeginnings.org
SUMMARY:Ignite High School Service
DESCRIPTION:
URL:https://newbeginnings.org/event/ignite-high-school/2029-02-14/
CATEGORIES:ignite
ATTACH;FMTTYPE=image/png:https://newbeginnings.org/wp-content/uploads/2022/12/youth-ignite-new.png
END:VEVENT
BEGIN:VEVENT
DTSTART;TZID=UTC:20290221T190000
DTEND;TZID=UTC:20290221T203000
DTSTAMP:20260421T124620
CREATED:20221207T035924Z
LAST-MODIFIED:20240416T185805Z
UID:10002705-1866394800-1866400200@newbeginnings.org
SUMMARY:Ignite High School Service
DESCRIPTION:
URL:https://newbeginnings.org/event/ignite-high-school/2029-02-21/
CATEGORIES:ignite
ATTACH;FMTTYPE=image/png:https://newbeginnings.org/wp-content/uploads/2022/12/youth-ignite-new.png
END:VEVENT
BEGIN:VEVENT
DTSTART;TZID=UTC:20290228T190000
DTEND;TZID=UTC:20290228T203000
DTSTAMP:20260421T124620
CREATED:20221207T035924Z
LAST-MODIFIED:20240416T185805Z
UID:10002706-1866999600-1867005000@newbeginnings.org
SUMMARY:Ignite High School Service
DESCRIPTION:
URL:https://newbeginnings.org/event/ignite-high-school/2029-02-28/
CATEGORIES:ignite
ATTACH;FMTTYPE=image/png:https://newbeginnings.org/wp-content/uploads/2022/12/youth-ignite-new.png
END:VEVENT
END:VCALENDAR