BEGIN:VCALENDAR
VERSION:2.0
PRODID:-//New Beginnings - ECPv6.15.20//NONSGML v1.0//EN
CALSCALE:GREGORIAN
METHOD:PUBLISH
X-WR-CALNAME:New Beginnings
X-ORIGINAL-URL:https://newbeginnings.org
X-WR-CALDESC:Events for New Beginnings
REFRESH-INTERVAL;VALUE=DURATION:PT1H
X-Robots-Tag:noindex
X-PUBLISHED-TTL:PT1H
BEGIN:VTIMEZONE
TZID:UTC
BEGIN:STANDARD
TZOFFSETFROM:+0000
TZOFFSETTO:+0000
TZNAME:UTC
DTSTART:20280101T000000
END:STANDARD
END:VTIMEZONE
BEGIN:VEVENT
DTSTART;TZID=UTC:20290124T190000
DTEND;TZID=UTC:20290124T203000
DTSTAMP:20260421T155050
CREATED:20221207T035924Z
LAST-MODIFIED:20240416T185805Z
UID:10002701-1863975600-1863981000@newbeginnings.org
SUMMARY:Ignite High School Service
DESCRIPTION:
URL:https://newbeginnings.org/event/ignite-high-school/2029-01-24/
CATEGORIES:ignite
ATTACH;FMTTYPE=image/png:https://newbeginnings.org/wp-content/uploads/2022/12/youth-ignite-new.png
END:VEVENT
BEGIN:VEVENT
DTSTART;TZID=UTC:20290131T190000
DTEND;TZID=UTC:20290131T203000
DTSTAMP:20260421T155050
CREATED:20221207T035924Z
LAST-MODIFIED:20240416T185805Z
UID:10002702-1864580400-1864585800@newbeginnings.org
SUMMARY:Ignite High School Service
DESCRIPTION:
URL:https://newbeginnings.org/event/ignite-high-school/2029-01-31/
CATEGORIES:ignite
ATTACH;FMTTYPE=image/png:https://newbeginnings.org/wp-content/uploads/2022/12/youth-ignite-new.png
END:VEVENT
BEGIN:VEVENT
DTSTART;TZID=UTC:20290207T190000
DTEND;TZID=UTC:20290207T203000
DTSTAMP:20260421T155050
CREATED:20221207T035924Z
LAST-MODIFIED:20240416T185805Z
UID:10002703-1865185200-1865190600@newbeginnings.org
SUMMARY:Ignite High School Service
DESCRIPTION:
URL:https://newbeginnings.org/event/ignite-high-school/2029-02-07/
CATEGORIES:ignite
ATTACH;FMTTYPE=image/png:https://newbeginnings.org/wp-content/uploads/2022/12/youth-ignite-new.png
END:VEVENT
BEGIN:VEVENT
DTSTART;TZID=UTC:20290214T190000
DTEND;TZID=UTC:20290214T203000
DTSTAMP:20260421T155050
CREATED:20221207T035924Z
LAST-MODIFIED:20240416T185805Z
UID:10002704-1865790000-1865795400@newbeginnings.org
SUMMARY:Ignite High School Service
DESCRIPTION:
URL:https://newbeginnings.org/event/ignite-high-school/2029-02-14/
CATEGORIES:ignite
ATTACH;FMTTYPE=image/png:https://newbeginnings.org/wp-content/uploads/2022/12/youth-ignite-new.png
END:VEVENT
BEGIN:VEVENT
DTSTART;TZID=UTC:20290221T190000
DTEND;TZID=UTC:20290221T203000
DTSTAMP:20260421T155050
CREATED:20221207T035924Z
LAST-MODIFIED:20240416T185805Z
UID:10002705-1866394800-1866400200@newbeginnings.org
SUMMARY:Ignite High School Service
DESCRIPTION:
URL:https://newbeginnings.org/event/ignite-high-school/2029-02-21/
CATEGORIES:ignite
ATTACH;FMTTYPE=image/png:https://newbeginnings.org/wp-content/uploads/2022/12/youth-ignite-new.png
END:VEVENT
BEGIN:VEVENT
DTSTART;TZID=UTC:20290228T190000
DTEND;TZID=UTC:20290228T203000
DTSTAMP:20260421T155050
CREATED:20221207T035924Z
LAST-MODIFIED:20240416T185805Z
UID:10002706-1866999600-1867005000@newbeginnings.org
SUMMARY:Ignite High School Service
DESCRIPTION:
URL:https://newbeginnings.org/event/ignite-high-school/2029-02-28/
CATEGORIES:ignite
ATTACH;FMTTYPE=image/png:https://newbeginnings.org/wp-content/uploads/2022/12/youth-ignite-new.png
END:VEVENT
BEGIN:VEVENT
DTSTART;TZID=UTC:20290307T190000
DTEND;TZID=UTC:20290307T203000
DTSTAMP:20260421T155050
CREATED:20221207T035924Z
LAST-MODIFIED:20240416T185805Z
UID:10002707-1867604400-1867609800@newbeginnings.org
SUMMARY:Ignite High School Service
DESCRIPTION:
URL:https://newbeginnings.org/event/ignite-high-school/2029-03-07/
CATEGORIES:ignite
ATTACH;FMTTYPE=image/png:https://newbeginnings.org/wp-content/uploads/2022/12/youth-ignite-new.png
END:VEVENT
BEGIN:VEVENT
DTSTART;TZID=UTC:20290314T190000
DTEND;TZID=UTC:20290314T203000
DTSTAMP:20260421T155050
CREATED:20221207T035924Z
LAST-MODIFIED:20240416T185805Z
UID:10002708-1868209200-1868214600@newbeginnings.org
SUMMARY:Ignite High School Service
DESCRIPTION:
URL:https://newbeginnings.org/event/ignite-high-school/2029-03-14/
CATEGORIES:ignite
ATTACH;FMTTYPE=image/png:https://newbeginnings.org/wp-content/uploads/2022/12/youth-ignite-new.png
END:VEVENT
BEGIN:VEVENT
DTSTART;TZID=UTC:20290321T190000
DTEND;TZID=UTC:20290321T203000
DTSTAMP:20260421T155050
CREATED:20221207T035924Z
LAST-MODIFIED:20240416T185805Z
UID:10002709-1868814000-1868819400@newbeginnings.org
SUMMARY:Ignite High School Service
DESCRIPTION:
URL:https://newbeginnings.org/event/ignite-high-school/2029-03-21/
CATEGORIES:ignite
ATTACH;FMTTYPE=image/png:https://newbeginnings.org/wp-content/uploads/2022/12/youth-ignite-new.png
END:VEVENT
BEGIN:VEVENT
DTSTART;TZID=UTC:20290328T190000
DTEND;TZID=UTC:20290328T203000
DTSTAMP:20260421T155050
CREATED:20221207T035924Z
LAST-MODIFIED:20240416T185805Z
UID:10002710-1869418800-1869424200@newbeginnings.org
SUMMARY:Ignite High School Service
DESCRIPTION:
URL:https://newbeginnings.org/event/ignite-high-school/2029-03-28/
CATEGORIES:ignite
ATTACH;FMTTYPE=image/png:https://newbeginnings.org/wp-content/uploads/2022/12/youth-ignite-new.png
END:VEVENT
BEGIN:VEVENT
DTSTART;TZID=UTC:20290404T190000
DTEND;TZID=UTC:20290404T203000
DTSTAMP:20260421T155050
CREATED:20221207T035924Z
LAST-MODIFIED:20240416T185805Z
UID:10002711-1870023600-1870029000@newbeginnings.org
SUMMARY:Ignite High School Service
DESCRIPTION:
URL:https://newbeginnings.org/event/ignite-high-school/2029-04-04/
CATEGORIES:ignite
ATTACH;FMTTYPE=image/png:https://newbeginnings.org/wp-content/uploads/2022/12/youth-ignite-new.png
END:VEVENT
BEGIN:VEVENT
DTSTART;TZID=UTC:20290411T190000
DTEND;TZID=UTC:20290411T203000
DTSTAMP:20260421T155050
CREATED:20221207T035924Z
LAST-MODIFIED:20240416T185805Z
UID:10002712-1870628400-1870633800@newbeginnings.org
SUMMARY:Ignite High School Service
DESCRIPTION:
URL:https://newbeginnings.org/event/ignite-high-school/2029-04-11/
CATEGORIES:ignite
ATTACH;FMTTYPE=image/png:https://newbeginnings.org/wp-content/uploads/2022/12/youth-ignite-new.png
END:VEVENT
END:VCALENDAR