BEGIN:VCALENDAR
VERSION:2.0
PRODID:-//New Beginnings - ECPv6.15.20//NONSGML v1.0//EN
CALSCALE:GREGORIAN
METHOD:PUBLISH
X-WR-CALNAME:New Beginnings
X-ORIGINAL-URL:https://newbeginnings.org
X-WR-CALDESC:Events for New Beginnings
REFRESH-INTERVAL;VALUE=DURATION:PT1H
X-Robots-Tag:noindex
X-PUBLISHED-TTL:PT1H
BEGIN:VTIMEZONE
TZID:UTC
BEGIN:STANDARD
TZOFFSETFROM:+0000
TZOFFSETTO:+0000
TZNAME:UTC
DTSTART:20250101T000000
END:STANDARD
END:VTIMEZONE
BEGIN:VEVENT
DTSTART;TZID=UTC:20261007T190000
DTEND;TZID=UTC:20261007T203000
DTSTAMP:20260421T192716
CREATED:20221207T035924Z
LAST-MODIFIED:20240416T185805Z
UID:10000984-1791399600-1791405000@newbeginnings.org
SUMMARY:Ignite High School Service
DESCRIPTION:
URL:https://newbeginnings.org/event/ignite-high-school/2026-10-07/
CATEGORIES:ignite
ATTACH;FMTTYPE=image/png:https://newbeginnings.org/wp-content/uploads/2022/12/youth-ignite-new.png
END:VEVENT
BEGIN:VEVENT
DTSTART;TZID=UTC:20261014T190000
DTEND;TZID=UTC:20261014T203000
DTSTAMP:20260421T192716
CREATED:20221207T035924Z
LAST-MODIFIED:20240416T185805Z
UID:10000985-1792004400-1792009800@newbeginnings.org
SUMMARY:Ignite High School Service
DESCRIPTION:
URL:https://newbeginnings.org/event/ignite-high-school/2026-10-14/
CATEGORIES:ignite
ATTACH;FMTTYPE=image/png:https://newbeginnings.org/wp-content/uploads/2022/12/youth-ignite-new.png
END:VEVENT
BEGIN:VEVENT
DTSTART;TZID=UTC:20261021T190000
DTEND;TZID=UTC:20261021T203000
DTSTAMP:20260421T192716
CREATED:20221207T035924Z
LAST-MODIFIED:20240416T185805Z
UID:10000986-1792609200-1792614600@newbeginnings.org
SUMMARY:Ignite High School Service
DESCRIPTION:
URL:https://newbeginnings.org/event/ignite-high-school/2026-10-21/
CATEGORIES:ignite
ATTACH;FMTTYPE=image/png:https://newbeginnings.org/wp-content/uploads/2022/12/youth-ignite-new.png
END:VEVENT
BEGIN:VEVENT
DTSTART;TZID=UTC:20261028T190000
DTEND;TZID=UTC:20261028T203000
DTSTAMP:20260421T192716
CREATED:20221207T035924Z
LAST-MODIFIED:20240416T185805Z
UID:10000987-1793214000-1793219400@newbeginnings.org
SUMMARY:Ignite High School Service
DESCRIPTION:
URL:https://newbeginnings.org/event/ignite-high-school/2026-10-28/
CATEGORIES:ignite
ATTACH;FMTTYPE=image/png:https://newbeginnings.org/wp-content/uploads/2022/12/youth-ignite-new.png
END:VEVENT
BEGIN:VEVENT
DTSTART;TZID=UTC:20261104T190000
DTEND;TZID=UTC:20261104T203000
DTSTAMP:20260421T192716
CREATED:20221207T035924Z
LAST-MODIFIED:20240416T185805Z
UID:10000988-1793818800-1793824200@newbeginnings.org
SUMMARY:Ignite High School Service
DESCRIPTION:
URL:https://newbeginnings.org/event/ignite-high-school/2026-11-04/
CATEGORIES:ignite
ATTACH;FMTTYPE=image/png:https://newbeginnings.org/wp-content/uploads/2022/12/youth-ignite-new.png
END:VEVENT
BEGIN:VEVENT
DTSTART;TZID=UTC:20261111T190000
DTEND;TZID=UTC:20261111T203000
DTSTAMP:20260421T192716
CREATED:20221207T035924Z
LAST-MODIFIED:20240416T185805Z
UID:10000989-1794423600-1794429000@newbeginnings.org
SUMMARY:Ignite High School Service
DESCRIPTION:
URL:https://newbeginnings.org/event/ignite-high-school/2026-11-11/
CATEGORIES:ignite
ATTACH;FMTTYPE=image/png:https://newbeginnings.org/wp-content/uploads/2022/12/youth-ignite-new.png
END:VEVENT
BEGIN:VEVENT
DTSTART;TZID=UTC:20261118T190000
DTEND;TZID=UTC:20261118T203000
DTSTAMP:20260421T192716
CREATED:20221207T035924Z
LAST-MODIFIED:20240416T185805Z
UID:10000990-1795028400-1795033800@newbeginnings.org
SUMMARY:Ignite High School Service
DESCRIPTION:
URL:https://newbeginnings.org/event/ignite-high-school/2026-11-18/
CATEGORIES:ignite
ATTACH;FMTTYPE=image/png:https://newbeginnings.org/wp-content/uploads/2022/12/youth-ignite-new.png
END:VEVENT
BEGIN:VEVENT
DTSTART;TZID=UTC:20261125T190000
DTEND;TZID=UTC:20261125T203000
DTSTAMP:20260421T192716
CREATED:20221207T035924Z
LAST-MODIFIED:20240416T185805Z
UID:10000991-1795633200-1795638600@newbeginnings.org
SUMMARY:Ignite High School Service
DESCRIPTION:
URL:https://newbeginnings.org/event/ignite-high-school/2026-11-25/
CATEGORIES:ignite
ATTACH;FMTTYPE=image/png:https://newbeginnings.org/wp-content/uploads/2022/12/youth-ignite-new.png
END:VEVENT
BEGIN:VEVENT
DTSTART;TZID=UTC:20261202T190000
DTEND;TZID=UTC:20261202T203000
DTSTAMP:20260421T192716
CREATED:20221207T035924Z
LAST-MODIFIED:20240416T185805Z
UID:10000992-1796238000-1796243400@newbeginnings.org
SUMMARY:Ignite High School Service
DESCRIPTION:
URL:https://newbeginnings.org/event/ignite-high-school/2026-12-02/
CATEGORIES:ignite
ATTACH;FMTTYPE=image/png:https://newbeginnings.org/wp-content/uploads/2022/12/youth-ignite-new.png
END:VEVENT
BEGIN:VEVENT
DTSTART;TZID=UTC:20261209T190000
DTEND;TZID=UTC:20261209T203000
DTSTAMP:20260421T192716
CREATED:20221207T035924Z
LAST-MODIFIED:20240416T185805Z
UID:10000993-1796842800-1796848200@newbeginnings.org
SUMMARY:Ignite High School Service
DESCRIPTION:
URL:https://newbeginnings.org/event/ignite-high-school/2026-12-09/
CATEGORIES:ignite
ATTACH;FMTTYPE=image/png:https://newbeginnings.org/wp-content/uploads/2022/12/youth-ignite-new.png
END:VEVENT
BEGIN:VEVENT
DTSTART;TZID=UTC:20261216T190000
DTEND;TZID=UTC:20261216T203000
DTSTAMP:20260421T192716
CREATED:20221207T035924Z
LAST-MODIFIED:20240416T185805Z
UID:10000994-1797447600-1797453000@newbeginnings.org
SUMMARY:Ignite High School Service
DESCRIPTION:
URL:https://newbeginnings.org/event/ignite-high-school/2026-12-16/
CATEGORIES:ignite
ATTACH;FMTTYPE=image/png:https://newbeginnings.org/wp-content/uploads/2022/12/youth-ignite-new.png
END:VEVENT
BEGIN:VEVENT
DTSTART;TZID=UTC:20261223T190000
DTEND;TZID=UTC:20261223T203000
DTSTAMP:20260421T192716
CREATED:20221207T035924Z
LAST-MODIFIED:20240416T185805Z
UID:10000995-1798052400-1798057800@newbeginnings.org
SUMMARY:Ignite High School Service
DESCRIPTION:
URL:https://newbeginnings.org/event/ignite-high-school/2026-12-23/
CATEGORIES:ignite
ATTACH;FMTTYPE=image/png:https://newbeginnings.org/wp-content/uploads/2022/12/youth-ignite-new.png
END:VEVENT
BEGIN:VEVENT
DTSTART;TZID=UTC:20261230T190000
DTEND;TZID=UTC:20261230T203000
DTSTAMP:20260421T192716
CREATED:20221207T035924Z
LAST-MODIFIED:20240416T185805Z
UID:10000996-1798657200-1798662600@newbeginnings.org
SUMMARY:Ignite High School Service
DESCRIPTION:
URL:https://newbeginnings.org/event/ignite-high-school/2026-12-30/
CATEGORIES:ignite
ATTACH;FMTTYPE=image/png:https://newbeginnings.org/wp-content/uploads/2022/12/youth-ignite-new.png
END:VEVENT
BEGIN:VEVENT
DTSTART;TZID=UTC:20270106T190000
DTEND;TZID=UTC:20270106T203000
DTSTAMP:20260421T192716
CREATED:20221207T035924Z
LAST-MODIFIED:20240416T185805Z
UID:10000997-1799262000-1799267400@newbeginnings.org
SUMMARY:Ignite High School Service
DESCRIPTION:
URL:https://newbeginnings.org/event/ignite-high-school/2027-01-06/
CATEGORIES:ignite
ATTACH;FMTTYPE=image/png:https://newbeginnings.org/wp-content/uploads/2022/12/youth-ignite-new.png
END:VEVENT
BEGIN:VEVENT
DTSTART;TZID=UTC:20270113T190000
DTEND;TZID=UTC:20270113T203000
DTSTAMP:20260421T192716
CREATED:20221207T035924Z
LAST-MODIFIED:20240416T185805Z
UID:10000998-1799866800-1799872200@newbeginnings.org
SUMMARY:Ignite High School Service
DESCRIPTION:
URL:https://newbeginnings.org/event/ignite-high-school/2027-01-13/
CATEGORIES:ignite
ATTACH;FMTTYPE=image/png:https://newbeginnings.org/wp-content/uploads/2022/12/youth-ignite-new.png
END:VEVENT
BEGIN:VEVENT
DTSTART;TZID=UTC:20270120T190000
DTEND;TZID=UTC:20270120T203000
DTSTAMP:20260421T192716
CREATED:20221207T035924Z
LAST-MODIFIED:20240416T185805Z
UID:10000999-1800471600-1800477000@newbeginnings.org
SUMMARY:Ignite High School Service
DESCRIPTION:
URL:https://newbeginnings.org/event/ignite-high-school/2027-01-20/
CATEGORIES:ignite
ATTACH;FMTTYPE=image/png:https://newbeginnings.org/wp-content/uploads/2022/12/youth-ignite-new.png
END:VEVENT
BEGIN:VEVENT
DTSTART;TZID=UTC:20270127T190000
DTEND;TZID=UTC:20270127T203000
DTSTAMP:20260421T192716
CREATED:20221207T035924Z
LAST-MODIFIED:20240416T185805Z
UID:10001000-1801076400-1801081800@newbeginnings.org
SUMMARY:Ignite High School Service
DESCRIPTION:
URL:https://newbeginnings.org/event/ignite-high-school/2027-01-27/
CATEGORIES:ignite
ATTACH;FMTTYPE=image/png:https://newbeginnings.org/wp-content/uploads/2022/12/youth-ignite-new.png
END:VEVENT
BEGIN:VEVENT
DTSTART;TZID=UTC:20270203T190000
DTEND;TZID=UTC:20270203T203000
DTSTAMP:20260421T192716
CREATED:20221207T035924Z
LAST-MODIFIED:20240416T185805Z
UID:10001001-1801681200-1801686600@newbeginnings.org
SUMMARY:Ignite High School Service
DESCRIPTION:
URL:https://newbeginnings.org/event/ignite-high-school/2027-02-03/
CATEGORIES:ignite
ATTACH;FMTTYPE=image/png:https://newbeginnings.org/wp-content/uploads/2022/12/youth-ignite-new.png
END:VEVENT
BEGIN:VEVENT
DTSTART;TZID=UTC:20270210T190000
DTEND;TZID=UTC:20270210T203000
DTSTAMP:20260421T192716
CREATED:20221207T035924Z
LAST-MODIFIED:20240416T185805Z
UID:10001002-1802286000-1802291400@newbeginnings.org
SUMMARY:Ignite High School Service
DESCRIPTION:
URL:https://newbeginnings.org/event/ignite-high-school/2027-02-10/
CATEGORIES:ignite
ATTACH;FMTTYPE=image/png:https://newbeginnings.org/wp-content/uploads/2022/12/youth-ignite-new.png
END:VEVENT
BEGIN:VEVENT
DTSTART;TZID=UTC:20270217T190000
DTEND;TZID=UTC:20270217T203000
DTSTAMP:20260421T192716
CREATED:20221207T035924Z
LAST-MODIFIED:20240416T185805Z
UID:10001003-1802890800-1802896200@newbeginnings.org
SUMMARY:Ignite High School Service
DESCRIPTION:
URL:https://newbeginnings.org/event/ignite-high-school/2027-02-17/
CATEGORIES:ignite
ATTACH;FMTTYPE=image/png:https://newbeginnings.org/wp-content/uploads/2022/12/youth-ignite-new.png
END:VEVENT
BEGIN:VEVENT
DTSTART;TZID=UTC:20270224T190000
DTEND;TZID=UTC:20270224T203000
DTSTAMP:20260421T192716
CREATED:20221207T035924Z
LAST-MODIFIED:20240416T185805Z
UID:10001004-1803495600-1803501000@newbeginnings.org
SUMMARY:Ignite High School Service
DESCRIPTION:
URL:https://newbeginnings.org/event/ignite-high-school/2027-02-24/
CATEGORIES:ignite
ATTACH;FMTTYPE=image/png:https://newbeginnings.org/wp-content/uploads/2022/12/youth-ignite-new.png
END:VEVENT
BEGIN:VEVENT
DTSTART;TZID=UTC:20270303T190000
DTEND;TZID=UTC:20270303T203000
DTSTAMP:20260421T192716
CREATED:20221207T035924Z
LAST-MODIFIED:20240416T185805Z
UID:10001005-1804100400-1804105800@newbeginnings.org
SUMMARY:Ignite High School Service
DESCRIPTION:
URL:https://newbeginnings.org/event/ignite-high-school/2027-03-03/
CATEGORIES:ignite
ATTACH;FMTTYPE=image/png:https://newbeginnings.org/wp-content/uploads/2022/12/youth-ignite-new.png
END:VEVENT
BEGIN:VEVENT
DTSTART;TZID=UTC:20270310T190000
DTEND;TZID=UTC:20270310T203000
DTSTAMP:20260421T192716
CREATED:20221207T035924Z
LAST-MODIFIED:20240416T185805Z
UID:10001006-1804705200-1804710600@newbeginnings.org
SUMMARY:Ignite High School Service
DESCRIPTION:
URL:https://newbeginnings.org/event/ignite-high-school/2027-03-10/
CATEGORIES:ignite
ATTACH;FMTTYPE=image/png:https://newbeginnings.org/wp-content/uploads/2022/12/youth-ignite-new.png
END:VEVENT
BEGIN:VEVENT
DTSTART;TZID=UTC:20270317T190000
DTEND;TZID=UTC:20270317T203000
DTSTAMP:20260421T192716
CREATED:20221207T035924Z
LAST-MODIFIED:20240416T185805Z
UID:10001007-1805310000-1805315400@newbeginnings.org
SUMMARY:Ignite High School Service
DESCRIPTION:
URL:https://newbeginnings.org/event/ignite-high-school/2027-03-17/
CATEGORIES:ignite
ATTACH;FMTTYPE=image/png:https://newbeginnings.org/wp-content/uploads/2022/12/youth-ignite-new.png
END:VEVENT
BEGIN:VEVENT
DTSTART;TZID=UTC:20270324T190000
DTEND;TZID=UTC:20270324T203000
DTSTAMP:20260421T192716
CREATED:20221207T035924Z
LAST-MODIFIED:20240416T185805Z
UID:10001008-1805914800-1805920200@newbeginnings.org
SUMMARY:Ignite High School Service
DESCRIPTION:
URL:https://newbeginnings.org/event/ignite-high-school/2027-03-24/
CATEGORIES:ignite
ATTACH;FMTTYPE=image/png:https://newbeginnings.org/wp-content/uploads/2022/12/youth-ignite-new.png
END:VEVENT
BEGIN:VEVENT
DTSTART;TZID=UTC:20270331T190000
DTEND;TZID=UTC:20270331T203000
DTSTAMP:20260421T192716
CREATED:20221207T035924Z
LAST-MODIFIED:20240416T185805Z
UID:10001009-1806519600-1806525000@newbeginnings.org
SUMMARY:Ignite High School Service
DESCRIPTION:
URL:https://newbeginnings.org/event/ignite-high-school/2027-03-31/
CATEGORIES:ignite
ATTACH;FMTTYPE=image/png:https://newbeginnings.org/wp-content/uploads/2022/12/youth-ignite-new.png
END:VEVENT
BEGIN:VEVENT
DTSTART;TZID=UTC:20270407T190000
DTEND;TZID=UTC:20270407T203000
DTSTAMP:20260421T192716
CREATED:20221207T035924Z
LAST-MODIFIED:20240416T185805Z
UID:10001010-1807124400-1807129800@newbeginnings.org
SUMMARY:Ignite High School Service
DESCRIPTION:
URL:https://newbeginnings.org/event/ignite-high-school/2027-04-07/
CATEGORIES:ignite
ATTACH;FMTTYPE=image/png:https://newbeginnings.org/wp-content/uploads/2022/12/youth-ignite-new.png
END:VEVENT
BEGIN:VEVENT
DTSTART;TZID=UTC:20270414T190000
DTEND;TZID=UTC:20270414T203000
DTSTAMP:20260421T192716
CREATED:20221207T035924Z
LAST-MODIFIED:20240416T185805Z
UID:10001011-1807729200-1807734600@newbeginnings.org
SUMMARY:Ignite High School Service
DESCRIPTION:
URL:https://newbeginnings.org/event/ignite-high-school/2027-04-14/
CATEGORIES:ignite
ATTACH;FMTTYPE=image/png:https://newbeginnings.org/wp-content/uploads/2022/12/youth-ignite-new.png
END:VEVENT
BEGIN:VEVENT
DTSTART;TZID=UTC:20270421T190000
DTEND;TZID=UTC:20270421T203000
DTSTAMP:20260421T192716
CREATED:20221207T035924Z
LAST-MODIFIED:20240416T185805Z
UID:10001012-1808334000-1808339400@newbeginnings.org
SUMMARY:Ignite High School Service
DESCRIPTION:
URL:https://newbeginnings.org/event/ignite-high-school/2027-04-21/
CATEGORIES:ignite
ATTACH;FMTTYPE=image/png:https://newbeginnings.org/wp-content/uploads/2022/12/youth-ignite-new.png
END:VEVENT
BEGIN:VEVENT
DTSTART;TZID=UTC:20270428T190000
DTEND;TZID=UTC:20270428T203000
DTSTAMP:20260421T192716
CREATED:20221207T035924Z
LAST-MODIFIED:20240416T185805Z
UID:10001013-1808938800-1808944200@newbeginnings.org
SUMMARY:Ignite High School Service
DESCRIPTION:
URL:https://newbeginnings.org/event/ignite-high-school/2027-04-28/
CATEGORIES:ignite
ATTACH;FMTTYPE=image/png:https://newbeginnings.org/wp-content/uploads/2022/12/youth-ignite-new.png
END:VEVENT
END:VCALENDAR