BEGIN:VCALENDAR
VERSION:2.0
PRODID:-//New Beginnings - ECPv6.15.20//NONSGML v1.0//EN
CALSCALE:GREGORIAN
METHOD:PUBLISH
X-WR-CALNAME:New Beginnings
X-ORIGINAL-URL:https://newbeginnings.org
X-WR-CALDESC:Events for New Beginnings
REFRESH-INTERVAL;VALUE=DURATION:PT1H
X-Robots-Tag:noindex
X-PUBLISHED-TTL:PT1H
BEGIN:VTIMEZONE
TZID:UTC
BEGIN:STANDARD
TZOFFSETFROM:+0000
TZOFFSETTO:+0000
TZNAME:UTC
DTSTART:20260101T000000
END:STANDARD
END:VTIMEZONE
BEGIN:VEVENT
DTSTART;TZID=UTC:20270908T190000
DTEND;TZID=UTC:20270908T203000
DTSTAMP:20260421T124621
CREATED:20221207T035924Z
LAST-MODIFIED:20240416T185805Z
UID:10001032-1820430000-1820435400@newbeginnings.org
SUMMARY:Ignite High School Service
DESCRIPTION:
URL:https://newbeginnings.org/event/ignite-high-school/2027-09-08/
CATEGORIES:ignite
ATTACH;FMTTYPE=image/png:https://newbeginnings.org/wp-content/uploads/2022/12/youth-ignite-new.png
END:VEVENT
BEGIN:VEVENT
DTSTART;TZID=UTC:20270915T190000
DTEND;TZID=UTC:20270915T203000
DTSTAMP:20260421T124621
CREATED:20221207T035924Z
LAST-MODIFIED:20240416T185805Z
UID:10001033-1821034800-1821040200@newbeginnings.org
SUMMARY:Ignite High School Service
DESCRIPTION:
URL:https://newbeginnings.org/event/ignite-high-school/2027-09-15/
CATEGORIES:ignite
ATTACH;FMTTYPE=image/png:https://newbeginnings.org/wp-content/uploads/2022/12/youth-ignite-new.png
END:VEVENT
BEGIN:VEVENT
DTSTART;TZID=UTC:20270922T190000
DTEND;TZID=UTC:20270922T203000
DTSTAMP:20260421T124621
CREATED:20221207T035924Z
LAST-MODIFIED:20240416T185805Z
UID:10001034-1821639600-1821645000@newbeginnings.org
SUMMARY:Ignite High School Service
DESCRIPTION:
URL:https://newbeginnings.org/event/ignite-high-school/2027-09-22/
CATEGORIES:ignite
ATTACH;FMTTYPE=image/png:https://newbeginnings.org/wp-content/uploads/2022/12/youth-ignite-new.png
END:VEVENT
BEGIN:VEVENT
DTSTART;TZID=UTC:20270929T190000
DTEND;TZID=UTC:20270929T203000
DTSTAMP:20260421T124621
CREATED:20221207T035924Z
LAST-MODIFIED:20240416T185805Z
UID:10001035-1822244400-1822249800@newbeginnings.org
SUMMARY:Ignite High School Service
DESCRIPTION:
URL:https://newbeginnings.org/event/ignite-high-school/2027-09-29/
CATEGORIES:ignite
ATTACH;FMTTYPE=image/png:https://newbeginnings.org/wp-content/uploads/2022/12/youth-ignite-new.png
END:VEVENT
BEGIN:VEVENT
DTSTART;TZID=UTC:20271006T190000
DTEND;TZID=UTC:20271006T203000
DTSTAMP:20260421T124621
CREATED:20221207T035924Z
LAST-MODIFIED:20240416T185805Z
UID:10001036-1822849200-1822854600@newbeginnings.org
SUMMARY:Ignite High School Service
DESCRIPTION:
URL:https://newbeginnings.org/event/ignite-high-school/2027-10-06/
CATEGORIES:ignite
ATTACH;FMTTYPE=image/png:https://newbeginnings.org/wp-content/uploads/2022/12/youth-ignite-new.png
END:VEVENT
BEGIN:VEVENT
DTSTART;TZID=UTC:20271013T190000
DTEND;TZID=UTC:20271013T203000
DTSTAMP:20260421T124621
CREATED:20221207T035924Z
LAST-MODIFIED:20240416T185805Z
UID:10001037-1823454000-1823459400@newbeginnings.org
SUMMARY:Ignite High School Service
DESCRIPTION:
URL:https://newbeginnings.org/event/ignite-high-school/2027-10-13/
CATEGORIES:ignite
ATTACH;FMTTYPE=image/png:https://newbeginnings.org/wp-content/uploads/2022/12/youth-ignite-new.png
END:VEVENT
BEGIN:VEVENT
DTSTART;TZID=UTC:20271020T190000
DTEND;TZID=UTC:20271020T203000
DTSTAMP:20260421T124621
CREATED:20221207T035924Z
LAST-MODIFIED:20240416T185805Z
UID:10001038-1824058800-1824064200@newbeginnings.org
SUMMARY:Ignite High School Service
DESCRIPTION:
URL:https://newbeginnings.org/event/ignite-high-school/2027-10-20/
CATEGORIES:ignite
ATTACH;FMTTYPE=image/png:https://newbeginnings.org/wp-content/uploads/2022/12/youth-ignite-new.png
END:VEVENT
BEGIN:VEVENT
DTSTART;TZID=UTC:20271027T190000
DTEND;TZID=UTC:20271027T203000
DTSTAMP:20260421T124621
CREATED:20221207T035924Z
LAST-MODIFIED:20240416T185805Z
UID:10001039-1824663600-1824669000@newbeginnings.org
SUMMARY:Ignite High School Service
DESCRIPTION:
URL:https://newbeginnings.org/event/ignite-high-school/2027-10-27/
CATEGORIES:ignite
ATTACH;FMTTYPE=image/png:https://newbeginnings.org/wp-content/uploads/2022/12/youth-ignite-new.png
END:VEVENT
BEGIN:VEVENT
DTSTART;TZID=UTC:20271103T190000
DTEND;TZID=UTC:20271103T203000
DTSTAMP:20260421T124621
CREATED:20221207T035924Z
LAST-MODIFIED:20240416T185805Z
UID:10001040-1825268400-1825273800@newbeginnings.org
SUMMARY:Ignite High School Service
DESCRIPTION:
URL:https://newbeginnings.org/event/ignite-high-school/2027-11-03/
CATEGORIES:ignite
ATTACH;FMTTYPE=image/png:https://newbeginnings.org/wp-content/uploads/2022/12/youth-ignite-new.png
END:VEVENT
BEGIN:VEVENT
DTSTART;TZID=UTC:20271110T190000
DTEND;TZID=UTC:20271110T203000
DTSTAMP:20260421T124621
CREATED:20221207T035924Z
LAST-MODIFIED:20240416T185805Z
UID:10001041-1825873200-1825878600@newbeginnings.org
SUMMARY:Ignite High School Service
DESCRIPTION:
URL:https://newbeginnings.org/event/ignite-high-school/2027-11-10/
CATEGORIES:ignite
ATTACH;FMTTYPE=image/png:https://newbeginnings.org/wp-content/uploads/2022/12/youth-ignite-new.png
END:VEVENT
BEGIN:VEVENT
DTSTART;TZID=UTC:20271117T190000
DTEND;TZID=UTC:20271117T203000
DTSTAMP:20260421T124621
CREATED:20221207T035924Z
LAST-MODIFIED:20240416T185805Z
UID:10001042-1826478000-1826483400@newbeginnings.org
SUMMARY:Ignite High School Service
DESCRIPTION:
URL:https://newbeginnings.org/event/ignite-high-school/2027-11-17/
CATEGORIES:ignite
ATTACH;FMTTYPE=image/png:https://newbeginnings.org/wp-content/uploads/2022/12/youth-ignite-new.png
END:VEVENT
BEGIN:VEVENT
DTSTART;TZID=UTC:20271124T190000
DTEND;TZID=UTC:20271124T203000
DTSTAMP:20260421T124621
CREATED:20221207T035924Z
LAST-MODIFIED:20240416T185805Z
UID:10001043-1827082800-1827088200@newbeginnings.org
SUMMARY:Ignite High School Service
DESCRIPTION:
URL:https://newbeginnings.org/event/ignite-high-school/2027-11-24/
CATEGORIES:ignite
ATTACH;FMTTYPE=image/png:https://newbeginnings.org/wp-content/uploads/2022/12/youth-ignite-new.png
END:VEVENT
BEGIN:VEVENT
DTSTART;TZID=UTC:20271201T190000
DTEND;TZID=UTC:20271201T203000
DTSTAMP:20260421T124621
CREATED:20221207T035924Z
LAST-MODIFIED:20240416T185805Z
UID:10001044-1827687600-1827693000@newbeginnings.org
SUMMARY:Ignite High School Service
DESCRIPTION:
URL:https://newbeginnings.org/event/ignite-high-school/2027-12-01/
CATEGORIES:ignite
ATTACH;FMTTYPE=image/png:https://newbeginnings.org/wp-content/uploads/2022/12/youth-ignite-new.png
END:VEVENT
BEGIN:VEVENT
DTSTART;TZID=UTC:20271208T190000
DTEND;TZID=UTC:20271208T203000
DTSTAMP:20260421T124621
CREATED:20221207T035924Z
LAST-MODIFIED:20240416T185805Z
UID:10001382-1828292400-1828297800@newbeginnings.org
SUMMARY:Ignite High School Service
DESCRIPTION:
URL:https://newbeginnings.org/event/ignite-high-school/2027-12-08/
CATEGORIES:ignite
ATTACH;FMTTYPE=image/png:https://newbeginnings.org/wp-content/uploads/2022/12/youth-ignite-new.png
END:VEVENT
BEGIN:VEVENT
DTSTART;TZID=UTC:20271215T190000
DTEND;TZID=UTC:20271215T203000
DTSTAMP:20260421T124621
CREATED:20221207T035924Z
LAST-MODIFIED:20240416T185805Z
UID:10001383-1828897200-1828902600@newbeginnings.org
SUMMARY:Ignite High School Service
DESCRIPTION:
URL:https://newbeginnings.org/event/ignite-high-school/2027-12-15/
CATEGORIES:ignite
ATTACH;FMTTYPE=image/png:https://newbeginnings.org/wp-content/uploads/2022/12/youth-ignite-new.png
END:VEVENT
BEGIN:VEVENT
DTSTART;TZID=UTC:20271222T190000
DTEND;TZID=UTC:20271222T203000
DTSTAMP:20260421T124621
CREATED:20221207T035924Z
LAST-MODIFIED:20240416T185805Z
UID:10001384-1829502000-1829507400@newbeginnings.org
SUMMARY:Ignite High School Service
DESCRIPTION:
URL:https://newbeginnings.org/event/ignite-high-school/2027-12-22/
CATEGORIES:ignite
ATTACH;FMTTYPE=image/png:https://newbeginnings.org/wp-content/uploads/2022/12/youth-ignite-new.png
END:VEVENT
BEGIN:VEVENT
DTSTART;TZID=UTC:20271229T190000
DTEND;TZID=UTC:20271229T203000
DTSTAMP:20260421T124621
CREATED:20221207T035924Z
LAST-MODIFIED:20240416T185805Z
UID:10001385-1830106800-1830112200@newbeginnings.org
SUMMARY:Ignite High School Service
DESCRIPTION:
URL:https://newbeginnings.org/event/ignite-high-school/2027-12-29/
CATEGORIES:ignite
ATTACH;FMTTYPE=image/png:https://newbeginnings.org/wp-content/uploads/2022/12/youth-ignite-new.png
END:VEVENT
BEGIN:VEVENT
DTSTART;TZID=UTC:20280105T190000
DTEND;TZID=UTC:20280105T203000
DTSTAMP:20260421T124621
CREATED:20221207T035924Z
LAST-MODIFIED:20240416T185805Z
UID:10001386-1830711600-1830717000@newbeginnings.org
SUMMARY:Ignite High School Service
DESCRIPTION:
URL:https://newbeginnings.org/event/ignite-high-school/2028-01-05/
CATEGORIES:ignite
ATTACH;FMTTYPE=image/png:https://newbeginnings.org/wp-content/uploads/2022/12/youth-ignite-new.png
END:VEVENT
BEGIN:VEVENT
DTSTART;TZID=UTC:20280112T190000
DTEND;TZID=UTC:20280112T203000
DTSTAMP:20260421T124621
CREATED:20221207T035924Z
LAST-MODIFIED:20240416T185805Z
UID:10001387-1831316400-1831321800@newbeginnings.org
SUMMARY:Ignite High School Service
DESCRIPTION:
URL:https://newbeginnings.org/event/ignite-high-school/2028-01-12/
CATEGORIES:ignite
ATTACH;FMTTYPE=image/png:https://newbeginnings.org/wp-content/uploads/2022/12/youth-ignite-new.png
END:VEVENT
BEGIN:VEVENT
DTSTART;TZID=UTC:20280119T190000
DTEND;TZID=UTC:20280119T203000
DTSTAMP:20260421T124621
CREATED:20221207T035924Z
LAST-MODIFIED:20240416T185805Z
UID:10001702-1831921200-1831926600@newbeginnings.org
SUMMARY:Ignite High School Service
DESCRIPTION:
URL:https://newbeginnings.org/event/ignite-high-school/2028-01-19/
CATEGORIES:ignite
ATTACH;FMTTYPE=image/png:https://newbeginnings.org/wp-content/uploads/2022/12/youth-ignite-new.png
END:VEVENT
BEGIN:VEVENT
DTSTART;TZID=UTC:20280126T190000
DTEND;TZID=UTC:20280126T203000
DTSTAMP:20260421T124621
CREATED:20221207T035924Z
LAST-MODIFIED:20240416T185805Z
UID:10002277-1832526000-1832531400@newbeginnings.org
SUMMARY:Ignite High School Service
DESCRIPTION:
URL:https://newbeginnings.org/event/ignite-high-school/2028-01-26/
CATEGORIES:ignite
ATTACH;FMTTYPE=image/png:https://newbeginnings.org/wp-content/uploads/2022/12/youth-ignite-new.png
END:VEVENT
BEGIN:VEVENT
DTSTART;TZID=UTC:20280202T190000
DTEND;TZID=UTC:20280202T203000
DTSTAMP:20260421T124621
CREATED:20221207T035924Z
LAST-MODIFIED:20240416T185805Z
UID:10002278-1833130800-1833136200@newbeginnings.org
SUMMARY:Ignite High School Service
DESCRIPTION:
URL:https://newbeginnings.org/event/ignite-high-school/2028-02-02/
CATEGORIES:ignite
ATTACH;FMTTYPE=image/png:https://newbeginnings.org/wp-content/uploads/2022/12/youth-ignite-new.png
END:VEVENT
BEGIN:VEVENT
DTSTART;TZID=UTC:20280209T190000
DTEND;TZID=UTC:20280209T203000
DTSTAMP:20260421T124621
CREATED:20221207T035924Z
LAST-MODIFIED:20240416T185805Z
UID:10002279-1833735600-1833741000@newbeginnings.org
SUMMARY:Ignite High School Service
DESCRIPTION:
URL:https://newbeginnings.org/event/ignite-high-school/2028-02-09/
CATEGORIES:ignite
ATTACH;FMTTYPE=image/png:https://newbeginnings.org/wp-content/uploads/2022/12/youth-ignite-new.png
END:VEVENT
BEGIN:VEVENT
DTSTART;TZID=UTC:20280216T190000
DTEND;TZID=UTC:20280216T203000
DTSTAMP:20260421T124621
CREATED:20221207T035924Z
LAST-MODIFIED:20240416T185805Z
UID:10002280-1834340400-1834345800@newbeginnings.org
SUMMARY:Ignite High School Service
DESCRIPTION:
URL:https://newbeginnings.org/event/ignite-high-school/2028-02-16/
CATEGORIES:ignite
ATTACH;FMTTYPE=image/png:https://newbeginnings.org/wp-content/uploads/2022/12/youth-ignite-new.png
END:VEVENT
BEGIN:VEVENT
DTSTART;TZID=UTC:20280223T190000
DTEND;TZID=UTC:20280223T203000
DTSTAMP:20260421T124621
CREATED:20221207T035924Z
LAST-MODIFIED:20240416T185805Z
UID:10002653-1834945200-1834950600@newbeginnings.org
SUMMARY:Ignite High School Service
DESCRIPTION:
URL:https://newbeginnings.org/event/ignite-high-school/2028-02-23/
CATEGORIES:ignite
ATTACH;FMTTYPE=image/png:https://newbeginnings.org/wp-content/uploads/2022/12/youth-ignite-new.png
END:VEVENT
BEGIN:VEVENT
DTSTART;TZID=UTC:20280301T190000
DTEND;TZID=UTC:20280301T203000
DTSTAMP:20260421T124621
CREATED:20221207T035924Z
LAST-MODIFIED:20240416T185805Z
UID:10002654-1835550000-1835555400@newbeginnings.org
SUMMARY:Ignite High School Service
DESCRIPTION:
URL:https://newbeginnings.org/event/ignite-high-school/2028-03-01/
CATEGORIES:ignite
ATTACH;FMTTYPE=image/png:https://newbeginnings.org/wp-content/uploads/2022/12/youth-ignite-new.png
END:VEVENT
BEGIN:VEVENT
DTSTART;TZID=UTC:20280308T190000
DTEND;TZID=UTC:20280308T203000
DTSTAMP:20260421T124621
CREATED:20221207T035924Z
LAST-MODIFIED:20240416T185805Z
UID:10002655-1836154800-1836160200@newbeginnings.org
SUMMARY:Ignite High School Service
DESCRIPTION:
URL:https://newbeginnings.org/event/ignite-high-school/2028-03-08/
CATEGORIES:ignite
ATTACH;FMTTYPE=image/png:https://newbeginnings.org/wp-content/uploads/2022/12/youth-ignite-new.png
END:VEVENT
BEGIN:VEVENT
DTSTART;TZID=UTC:20280315T190000
DTEND;TZID=UTC:20280315T203000
DTSTAMP:20260421T124621
CREATED:20221207T035924Z
LAST-MODIFIED:20240416T185805Z
UID:10002656-1836759600-1836765000@newbeginnings.org
SUMMARY:Ignite High School Service
DESCRIPTION:
URL:https://newbeginnings.org/event/ignite-high-school/2028-03-15/
CATEGORIES:ignite
ATTACH;FMTTYPE=image/png:https://newbeginnings.org/wp-content/uploads/2022/12/youth-ignite-new.png
END:VEVENT
BEGIN:VEVENT
DTSTART;TZID=UTC:20280322T190000
DTEND;TZID=UTC:20280322T203000
DTSTAMP:20260421T124621
CREATED:20221207T035924Z
LAST-MODIFIED:20240416T185805Z
UID:10002657-1837364400-1837369800@newbeginnings.org
SUMMARY:Ignite High School Service
DESCRIPTION:
URL:https://newbeginnings.org/event/ignite-high-school/2028-03-22/
CATEGORIES:ignite
ATTACH;FMTTYPE=image/png:https://newbeginnings.org/wp-content/uploads/2022/12/youth-ignite-new.png
END:VEVENT
BEGIN:VEVENT
DTSTART;TZID=UTC:20280329T190000
DTEND;TZID=UTC:20280329T203000
DTSTAMP:20260421T124621
CREATED:20221207T035924Z
LAST-MODIFIED:20240416T185805Z
UID:10002658-1837969200-1837974600@newbeginnings.org
SUMMARY:Ignite High School Service
DESCRIPTION:
URL:https://newbeginnings.org/event/ignite-high-school/2028-03-29/
CATEGORIES:ignite
ATTACH;FMTTYPE=image/png:https://newbeginnings.org/wp-content/uploads/2022/12/youth-ignite-new.png
END:VEVENT
END:VCALENDAR