BEGIN:VCALENDAR
VERSION:2.0
PRODID:-//New Beginnings - ECPv6.15.20//NONSGML v1.0//EN
CALSCALE:GREGORIAN
METHOD:PUBLISH
X-ORIGINAL-URL:https://newbeginnings.org
X-WR-CALDESC:Events for New Beginnings
REFRESH-INTERVAL;VALUE=DURATION:PT1H
X-Robots-Tag:noindex
X-PUBLISHED-TTL:PT1H
BEGIN:VTIMEZONE
TZID:UTC
BEGIN:STANDARD
TZOFFSETFROM:+0000
TZOFFSETTO:+0000
TZNAME:UTC
DTSTART:20250101T000000
END:STANDARD
END:VTIMEZONE
BEGIN:VEVENT
DTSTART;TZID=UTC:20260426T100000
DTEND;TZID=UTC:20260426T113000
DTSTAMP:20260421T212728
CREATED:20241228T172124Z
LAST-MODIFIED:20250519T183458Z
UID:10003952-1777197600-1777203000@newbeginnings.org
SUMMARY:Sunday Service
DESCRIPTION:
URL:https://newbeginnings.org/event/sunday-service-47-3/2026-04-26/
CATEGORIES:sunday service
ATTACH;FMTTYPE=image/jpeg:https://newbeginnings.org/wp-content/uploads/2022/12/Sunday-Service-Generic-2-scaled.jpg
END:VEVENT
BEGIN:VEVENT
DTSTART;TZID=UTC:20260503T100000
DTEND;TZID=UTC:20260503T113000
DTSTAMP:20260421T212728
CREATED:20241228T172124Z
LAST-MODIFIED:20250519T183458Z
UID:10003953-1777802400-1777807800@newbeginnings.org
SUMMARY:Sunday Service
DESCRIPTION:
URL:https://newbeginnings.org/event/sunday-service-47-3/2026-05-03/
CATEGORIES:sunday service
ATTACH;FMTTYPE=image/jpeg:https://newbeginnings.org/wp-content/uploads/2022/12/Sunday-Service-Generic-2-scaled.jpg
END:VEVENT
BEGIN:VEVENT
DTSTART;TZID=UTC:20260510T100000
DTEND;TZID=UTC:20260510T113000
DTSTAMP:20260421T212728
CREATED:20241228T172124Z
LAST-MODIFIED:20250519T183458Z
UID:10003954-1778407200-1778412600@newbeginnings.org
SUMMARY:Sunday Service
DESCRIPTION:
URL:https://newbeginnings.org/event/sunday-service-47-3/2026-05-10/
CATEGORIES:sunday service
ATTACH;FMTTYPE=image/jpeg:https://newbeginnings.org/wp-content/uploads/2022/12/Sunday-Service-Generic-2-scaled.jpg
END:VEVENT
BEGIN:VEVENT
DTSTART;TZID=UTC:20260517T100000
DTEND;TZID=UTC:20260517T113000
DTSTAMP:20260421T212728
CREATED:20241228T172124Z
LAST-MODIFIED:20250519T183458Z
UID:10003955-1779012000-1779017400@newbeginnings.org
SUMMARY:Sunday Service
DESCRIPTION:
URL:https://newbeginnings.org/event/sunday-service-47-3/2026-05-17/
CATEGORIES:sunday service
ATTACH;FMTTYPE=image/jpeg:https://newbeginnings.org/wp-content/uploads/2022/12/Sunday-Service-Generic-2-scaled.jpg
END:VEVENT
BEGIN:VEVENT
DTSTART;TZID=UTC:20260524T100000
DTEND;TZID=UTC:20260524T113000
DTSTAMP:20260421T212729
CREATED:20241228T172124Z
LAST-MODIFIED:20250519T183458Z
UID:10003956-1779616800-1779622200@newbeginnings.org
SUMMARY:Sunday Service
DESCRIPTION:
URL:https://newbeginnings.org/event/sunday-service-47-3/2026-05-24/
CATEGORIES:sunday service
ATTACH;FMTTYPE=image/jpeg:https://newbeginnings.org/wp-content/uploads/2022/12/Sunday-Service-Generic-2-scaled.jpg
END:VEVENT
BEGIN:VEVENT
DTSTART;TZID=UTC:20260531T100000
DTEND;TZID=UTC:20260531T113000
DTSTAMP:20260421T212729
CREATED:20241228T172124Z
LAST-MODIFIED:20250519T183458Z
UID:10003957-1780221600-1780227000@newbeginnings.org
SUMMARY:Sunday Service
DESCRIPTION:
URL:https://newbeginnings.org/event/sunday-service-47-3/2026-05-31/
CATEGORIES:sunday service
ATTACH;FMTTYPE=image/jpeg:https://newbeginnings.org/wp-content/uploads/2022/12/Sunday-Service-Generic-2-scaled.jpg
END:VEVENT
BEGIN:VEVENT
DTSTART;TZID=UTC:20260607T100000
DTEND;TZID=UTC:20260607T113000
DTSTAMP:20260421T212729
CREATED:20241228T172124Z
LAST-MODIFIED:20250519T183458Z
UID:10003958-1780826400-1780831800@newbeginnings.org
SUMMARY:Sunday Service
DESCRIPTION:
URL:https://newbeginnings.org/event/sunday-service-47-3/2026-06-07/
CATEGORIES:sunday service
ATTACH;FMTTYPE=image/jpeg:https://newbeginnings.org/wp-content/uploads/2022/12/Sunday-Service-Generic-2-scaled.jpg
END:VEVENT
BEGIN:VEVENT
DTSTART;TZID=UTC:20260614T100000
DTEND;TZID=UTC:20260614T113000
DTSTAMP:20260421T212729
CREATED:20241228T172124Z
LAST-MODIFIED:20250519T183458Z
UID:10003959-1781431200-1781436600@newbeginnings.org
SUMMARY:Sunday Service
DESCRIPTION:
URL:https://newbeginnings.org/event/sunday-service-47-3/2026-06-14/
CATEGORIES:sunday service
ATTACH;FMTTYPE=image/jpeg:https://newbeginnings.org/wp-content/uploads/2022/12/Sunday-Service-Generic-2-scaled.jpg
END:VEVENT
BEGIN:VEVENT
DTSTART;TZID=UTC:20260621T100000
DTEND;TZID=UTC:20260621T113000
DTSTAMP:20260421T212729
CREATED:20241228T172124Z
LAST-MODIFIED:20250519T183458Z
UID:10003960-1782036000-1782041400@newbeginnings.org
SUMMARY:Sunday Service
DESCRIPTION:
URL:https://newbeginnings.org/event/sunday-service-47-3/2026-06-21/
CATEGORIES:sunday service
ATTACH;FMTTYPE=image/jpeg:https://newbeginnings.org/wp-content/uploads/2022/12/Sunday-Service-Generic-2-scaled.jpg
END:VEVENT
BEGIN:VEVENT
DTSTART;TZID=UTC:20260628T100000
DTEND;TZID=UTC:20260628T113000
DTSTAMP:20260421T212729
CREATED:20241228T172124Z
LAST-MODIFIED:20250519T183458Z
UID:10003961-1782640800-1782646200@newbeginnings.org
SUMMARY:Sunday Service
DESCRIPTION:
URL:https://newbeginnings.org/event/sunday-service-47-3/2026-06-28/
CATEGORIES:sunday service
ATTACH;FMTTYPE=image/jpeg:https://newbeginnings.org/wp-content/uploads/2022/12/Sunday-Service-Generic-2-scaled.jpg
END:VEVENT
BEGIN:VEVENT
DTSTART;TZID=UTC:20260705T100000
DTEND;TZID=UTC:20260705T113000
DTSTAMP:20260421T212729
CREATED:20241228T172124Z
LAST-MODIFIED:20250519T183458Z
UID:10003962-1783245600-1783251000@newbeginnings.org
SUMMARY:Sunday Service
DESCRIPTION:
URL:https://newbeginnings.org/event/sunday-service-47-3/2026-07-05/
CATEGORIES:sunday service
ATTACH;FMTTYPE=image/jpeg:https://newbeginnings.org/wp-content/uploads/2022/12/Sunday-Service-Generic-2-scaled.jpg
END:VEVENT
BEGIN:VEVENT
DTSTART;TZID=UTC:20260712T100000
DTEND;TZID=UTC:20260712T113000
DTSTAMP:20260421T212729
CREATED:20241228T172124Z
LAST-MODIFIED:20250519T183458Z
UID:10003963-1783850400-1783855800@newbeginnings.org
SUMMARY:Sunday Service
DESCRIPTION:
URL:https://newbeginnings.org/event/sunday-service-47-3/2026-07-12/
CATEGORIES:sunday service
ATTACH;FMTTYPE=image/jpeg:https://newbeginnings.org/wp-content/uploads/2022/12/Sunday-Service-Generic-2-scaled.jpg
END:VEVENT
BEGIN:VEVENT
DTSTART;TZID=UTC:20260719T100000
DTEND;TZID=UTC:20260719T113000
DTSTAMP:20260421T212729
CREATED:20241228T172124Z
LAST-MODIFIED:20250519T183458Z
UID:10003964-1784455200-1784460600@newbeginnings.org
SUMMARY:Sunday Service
DESCRIPTION:
URL:https://newbeginnings.org/event/sunday-service-47-3/2026-07-19/
CATEGORIES:sunday service
ATTACH;FMTTYPE=image/jpeg:https://newbeginnings.org/wp-content/uploads/2022/12/Sunday-Service-Generic-2-scaled.jpg
END:VEVENT
BEGIN:VEVENT
DTSTART;TZID=UTC:20260726T100000
DTEND;TZID=UTC:20260726T113000
DTSTAMP:20260421T212729
CREATED:20241228T172124Z
LAST-MODIFIED:20250519T183458Z
UID:10003965-1785060000-1785065400@newbeginnings.org
SUMMARY:Sunday Service
DESCRIPTION:
URL:https://newbeginnings.org/event/sunday-service-47-3/2026-07-26/
CATEGORIES:sunday service
ATTACH;FMTTYPE=image/jpeg:https://newbeginnings.org/wp-content/uploads/2022/12/Sunday-Service-Generic-2-scaled.jpg
END:VEVENT
BEGIN:VEVENT
DTSTART;TZID=UTC:20260802T100000
DTEND;TZID=UTC:20260802T113000
DTSTAMP:20260421T212729
CREATED:20241228T172124Z
LAST-MODIFIED:20250519T183458Z
UID:10003966-1785664800-1785670200@newbeginnings.org
SUMMARY:Sunday Service
DESCRIPTION:
URL:https://newbeginnings.org/event/sunday-service-47-3/2026-08-02/
CATEGORIES:sunday service
ATTACH;FMTTYPE=image/jpeg:https://newbeginnings.org/wp-content/uploads/2022/12/Sunday-Service-Generic-2-scaled.jpg
END:VEVENT
BEGIN:VEVENT
DTSTART;TZID=UTC:20260809T100000
DTEND;TZID=UTC:20260809T113000
DTSTAMP:20260421T212729
CREATED:20241228T172124Z
LAST-MODIFIED:20250519T183458Z
UID:10003967-1786269600-1786275000@newbeginnings.org
SUMMARY:Sunday Service
DESCRIPTION:
URL:https://newbeginnings.org/event/sunday-service-47-3/2026-08-09/
CATEGORIES:sunday service
ATTACH;FMTTYPE=image/jpeg:https://newbeginnings.org/wp-content/uploads/2022/12/Sunday-Service-Generic-2-scaled.jpg
END:VEVENT
BEGIN:VEVENT
DTSTART;TZID=UTC:20260816T100000
DTEND;TZID=UTC:20260816T113000
DTSTAMP:20260421T212729
CREATED:20241228T172124Z
LAST-MODIFIED:20250519T183458Z
UID:10003968-1786874400-1786879800@newbeginnings.org
SUMMARY:Sunday Service
DESCRIPTION:
URL:https://newbeginnings.org/event/sunday-service-47-3/2026-08-16/
CATEGORIES:sunday service
ATTACH;FMTTYPE=image/jpeg:https://newbeginnings.org/wp-content/uploads/2022/12/Sunday-Service-Generic-2-scaled.jpg
END:VEVENT
BEGIN:VEVENT
DTSTART;TZID=UTC:20260823T100000
DTEND;TZID=UTC:20260823T113000
DTSTAMP:20260421T212729
CREATED:20241228T172124Z
LAST-MODIFIED:20250519T183458Z
UID:10003969-1787479200-1787484600@newbeginnings.org
SUMMARY:Sunday Service
DESCRIPTION:
URL:https://newbeginnings.org/event/sunday-service-47-3/2026-08-23/
CATEGORIES:sunday service
ATTACH;FMTTYPE=image/jpeg:https://newbeginnings.org/wp-content/uploads/2022/12/Sunday-Service-Generic-2-scaled.jpg
END:VEVENT
BEGIN:VEVENT
DTSTART;TZID=UTC:20260830T100000
DTEND;TZID=UTC:20260830T113000
DTSTAMP:20260421T212729
CREATED:20241228T172124Z
LAST-MODIFIED:20250519T183458Z
UID:10003970-1788084000-1788089400@newbeginnings.org
SUMMARY:Sunday Service
DESCRIPTION:
URL:https://newbeginnings.org/event/sunday-service-47-3/2026-08-30/
CATEGORIES:sunday service
ATTACH;FMTTYPE=image/jpeg:https://newbeginnings.org/wp-content/uploads/2022/12/Sunday-Service-Generic-2-scaled.jpg
END:VEVENT
BEGIN:VEVENT
DTSTART;TZID=UTC:20260906T100000
DTEND;TZID=UTC:20260906T113000
DTSTAMP:20260421T212729
CREATED:20241228T172124Z
LAST-MODIFIED:20250519T183458Z
UID:10003971-1788688800-1788694200@newbeginnings.org
SUMMARY:Sunday Service
DESCRIPTION:
URL:https://newbeginnings.org/event/sunday-service-47-3/2026-09-06/
CATEGORIES:sunday service
ATTACH;FMTTYPE=image/jpeg:https://newbeginnings.org/wp-content/uploads/2022/12/Sunday-Service-Generic-2-scaled.jpg
END:VEVENT
BEGIN:VEVENT
DTSTART;TZID=UTC:20260913T100000
DTEND;TZID=UTC:20260913T113000
DTSTAMP:20260421T212729
CREATED:20241228T172124Z
LAST-MODIFIED:20250519T183458Z
UID:10003972-1789293600-1789299000@newbeginnings.org
SUMMARY:Sunday Service
DESCRIPTION:
URL:https://newbeginnings.org/event/sunday-service-47-3/2026-09-13/
CATEGORIES:sunday service
ATTACH;FMTTYPE=image/jpeg:https://newbeginnings.org/wp-content/uploads/2022/12/Sunday-Service-Generic-2-scaled.jpg
END:VEVENT
BEGIN:VEVENT
DTSTART;TZID=UTC:20260920T100000
DTEND;TZID=UTC:20260920T113000
DTSTAMP:20260421T212729
CREATED:20241228T172124Z
LAST-MODIFIED:20250519T183458Z
UID:10003973-1789898400-1789903800@newbeginnings.org
SUMMARY:Sunday Service
DESCRIPTION:
URL:https://newbeginnings.org/event/sunday-service-47-3/2026-09-20/
CATEGORIES:sunday service
ATTACH;FMTTYPE=image/jpeg:https://newbeginnings.org/wp-content/uploads/2022/12/Sunday-Service-Generic-2-scaled.jpg
END:VEVENT
BEGIN:VEVENT
DTSTART;TZID=UTC:20260927T100000
DTEND;TZID=UTC:20260927T113000
DTSTAMP:20260421T212729
CREATED:20241228T172124Z
LAST-MODIFIED:20250519T183458Z
UID:10003974-1790503200-1790508600@newbeginnings.org
SUMMARY:Sunday Service
DESCRIPTION:
URL:https://newbeginnings.org/event/sunday-service-47-3/2026-09-27/
CATEGORIES:sunday service
ATTACH;FMTTYPE=image/jpeg:https://newbeginnings.org/wp-content/uploads/2022/12/Sunday-Service-Generic-2-scaled.jpg
END:VEVENT
BEGIN:VEVENT
DTSTART;TZID=UTC:20261004T100000
DTEND;TZID=UTC:20261004T113000
DTSTAMP:20260421T212729
CREATED:20241228T172124Z
LAST-MODIFIED:20250519T183458Z
UID:10003975-1791108000-1791113400@newbeginnings.org
SUMMARY:Sunday Service
DESCRIPTION:
URL:https://newbeginnings.org/event/sunday-service-47-3/2026-10-04/
CATEGORIES:sunday service
ATTACH;FMTTYPE=image/jpeg:https://newbeginnings.org/wp-content/uploads/2022/12/Sunday-Service-Generic-2-scaled.jpg
END:VEVENT
BEGIN:VEVENT
DTSTART;TZID=UTC:20261011T100000
DTEND;TZID=UTC:20261011T113000
DTSTAMP:20260421T212729
CREATED:20241228T172124Z
LAST-MODIFIED:20250519T183458Z
UID:10003976-1791712800-1791718200@newbeginnings.org
SUMMARY:Sunday Service
DESCRIPTION:
URL:https://newbeginnings.org/event/sunday-service-47-3/2026-10-11/
CATEGORIES:sunday service
ATTACH;FMTTYPE=image/jpeg:https://newbeginnings.org/wp-content/uploads/2022/12/Sunday-Service-Generic-2-scaled.jpg
END:VEVENT
BEGIN:VEVENT
DTSTART;TZID=UTC:20261018T100000
DTEND;TZID=UTC:20261018T113000
DTSTAMP:20260421T212729
CREATED:20241228T172124Z
LAST-MODIFIED:20250519T183458Z
UID:10003977-1792317600-1792323000@newbeginnings.org
SUMMARY:Sunday Service
DESCRIPTION:
URL:https://newbeginnings.org/event/sunday-service-47-3/2026-10-18/
CATEGORIES:sunday service
ATTACH;FMTTYPE=image/jpeg:https://newbeginnings.org/wp-content/uploads/2022/12/Sunday-Service-Generic-2-scaled.jpg
END:VEVENT
BEGIN:VEVENT
DTSTART;TZID=UTC:20261025T100000
DTEND;TZID=UTC:20261025T113000
DTSTAMP:20260421T212729
CREATED:20241228T172124Z
LAST-MODIFIED:20250519T183458Z
UID:10003978-1792922400-1792927800@newbeginnings.org
SUMMARY:Sunday Service
DESCRIPTION:
URL:https://newbeginnings.org/event/sunday-service-47-3/2026-10-25/
CATEGORIES:sunday service
ATTACH;FMTTYPE=image/jpeg:https://newbeginnings.org/wp-content/uploads/2022/12/Sunday-Service-Generic-2-scaled.jpg
END:VEVENT
BEGIN:VEVENT
DTSTART;TZID=UTC:20261101T100000
DTEND;TZID=UTC:20261101T113000
DTSTAMP:20260421T212729
CREATED:20241228T172124Z
LAST-MODIFIED:20250519T183458Z
UID:10003979-1793527200-1793532600@newbeginnings.org
SUMMARY:Sunday Service
DESCRIPTION:
URL:https://newbeginnings.org/event/sunday-service-47-3/2026-11-01/
CATEGORIES:sunday service
ATTACH;FMTTYPE=image/jpeg:https://newbeginnings.org/wp-content/uploads/2022/12/Sunday-Service-Generic-2-scaled.jpg
END:VEVENT
BEGIN:VEVENT
DTSTART;TZID=UTC:20261108T100000
DTEND;TZID=UTC:20261108T113000
DTSTAMP:20260421T212729
CREATED:20241228T172124Z
LAST-MODIFIED:20250519T183458Z
UID:10003980-1794132000-1794137400@newbeginnings.org
SUMMARY:Sunday Service
DESCRIPTION:
URL:https://newbeginnings.org/event/sunday-service-47-3/2026-11-08/
CATEGORIES:sunday service
ATTACH;FMTTYPE=image/jpeg:https://newbeginnings.org/wp-content/uploads/2022/12/Sunday-Service-Generic-2-scaled.jpg
END:VEVENT
BEGIN:VEVENT
DTSTART;TZID=UTC:20261115T100000
DTEND;TZID=UTC:20261115T113000
DTSTAMP:20260421T212729
CREATED:20241228T172124Z
LAST-MODIFIED:20250519T183458Z
UID:10003981-1794736800-1794742200@newbeginnings.org
SUMMARY:Sunday Service
DESCRIPTION:
URL:https://newbeginnings.org/event/sunday-service-47-3/2026-11-15/
CATEGORIES:sunday service
ATTACH;FMTTYPE=image/jpeg:https://newbeginnings.org/wp-content/uploads/2022/12/Sunday-Service-Generic-2-scaled.jpg
END:VEVENT
END:VCALENDAR