BEGIN:VCALENDAR
VERSION:2.0
PRODID:-//New Beginnings - ECPv6.15.20//NONSGML v1.0//EN
CALSCALE:GREGORIAN
METHOD:PUBLISH
X-WR-CALNAME:New Beginnings
X-ORIGINAL-URL:https://newbeginnings.org
X-WR-CALDESC:Events for New Beginnings
REFRESH-INTERVAL;VALUE=DURATION:PT1H
X-Robots-Tag:noindex
X-PUBLISHED-TTL:PT1H
BEGIN:VTIMEZONE
TZID:America/Chicago
BEGIN:DAYLIGHT
TZOFFSETFROM:-0600
TZOFFSETTO:-0500
TZNAME:CDT
DTSTART:20250309T080000
END:DAYLIGHT
BEGIN:STANDARD
TZOFFSETFROM:-0500
TZOFFSETTO:-0600
TZNAME:CST
DTSTART:20251102T070000
END:STANDARD
BEGIN:DAYLIGHT
TZOFFSETFROM:-0600
TZOFFSETTO:-0500
TZNAME:CDT
DTSTART:20260308T080000
END:DAYLIGHT
BEGIN:STANDARD
TZOFFSETFROM:-0500
TZOFFSETTO:-0600
TZNAME:CST
DTSTART:20261101T070000
END:STANDARD
BEGIN:DAYLIGHT
TZOFFSETFROM:-0600
TZOFFSETTO:-0500
TZNAME:CDT
DTSTART:20270314T080000
END:DAYLIGHT
BEGIN:STANDARD
TZOFFSETFROM:-0500
TZOFFSETTO:-0600
TZNAME:CST
DTSTART:20271107T070000
END:STANDARD
END:VTIMEZONE
BEGIN:VEVENT
DTSTART;TZID=America/Chicago:20260601T093000
DTEND;TZID=America/Chicago:20260601T143000
DTSTAMP:20260419T181504
CREATED:20260330T192151Z
LAST-MODIFIED:20260330T192302Z
UID:10005492-1780306200-1780324200@newbeginnings.org
SUMMARY:Kid City Summer Camp 2026 - Rain Forest Falls
DESCRIPTION:Kid City Summer Camp 2026: Rainforest Falls – Exploring the Nature of God is an exciting\, faith-filled adventure where kids will discover who God is through powerful teachings\, worship\, and fun activities. \nRegister your child now: https://dfwnewbeginnings.churchcenter.com/registrations/events/3545586 \nSponsor a Child – Kid City Camp 2026 is a chance to help a child experience an unforgettable week at camp. When you sponsor\, your generosity makes it possible for a child to attend\, grow in their faith\, and create lasting memories. \nSponsor a child now: https://dfwnewbeginnings.churchcenter.com/registrations/events/3545513
URL:https://newbeginnings.org/event/kid-city-summer-camp-2026-rain-forest-falls/2026-06-01/
LOCATION:DFW New Beginnings Church
ATTACH;FMTTYPE=image/png:https://newbeginnings.org/wp-content/uploads/2026/03/Kid-CIty-Camp-2026_Lobby.png
END:VEVENT
BEGIN:VEVENT
DTSTART;TZID=America/Chicago:20260602T093000
DTEND;TZID=America/Chicago:20260602T143000
DTSTAMP:20260419T181504
CREATED:20260330T192151Z
LAST-MODIFIED:20260330T192302Z
UID:10005493-1780392600-1780410600@newbeginnings.org
SUMMARY:Kid City Summer Camp 2026 - Rain Forest Falls
DESCRIPTION:Kid City Summer Camp 2026: Rainforest Falls – Exploring the Nature of God is an exciting\, faith-filled adventure where kids will discover who God is through powerful teachings\, worship\, and fun activities. \nRegister your child now: https://dfwnewbeginnings.churchcenter.com/registrations/events/3545586 \nSponsor a Child – Kid City Camp 2026 is a chance to help a child experience an unforgettable week at camp. When you sponsor\, your generosity makes it possible for a child to attend\, grow in their faith\, and create lasting memories. \nSponsor a child now: https://dfwnewbeginnings.churchcenter.com/registrations/events/3545513
URL:https://newbeginnings.org/event/kid-city-summer-camp-2026-rain-forest-falls/2026-06-02/
LOCATION:DFW New Beginnings Church
ATTACH;FMTTYPE=image/png:https://newbeginnings.org/wp-content/uploads/2026/03/Kid-CIty-Camp-2026_Lobby.png
END:VEVENT
BEGIN:VEVENT
DTSTART;TZID=America/Chicago:20260603T093000
DTEND;TZID=America/Chicago:20260603T143000
DTSTAMP:20260419T181504
CREATED:20260330T192151Z
LAST-MODIFIED:20260330T192302Z
UID:10005494-1780479000-1780497000@newbeginnings.org
SUMMARY:Kid City Summer Camp 2026 - Rain Forest Falls
DESCRIPTION:Kid City Summer Camp 2026: Rainforest Falls – Exploring the Nature of God is an exciting\, faith-filled adventure where kids will discover who God is through powerful teachings\, worship\, and fun activities. \nRegister your child now: https://dfwnewbeginnings.churchcenter.com/registrations/events/3545586 \nSponsor a Child – Kid City Camp 2026 is a chance to help a child experience an unforgettable week at camp. When you sponsor\, your generosity makes it possible for a child to attend\, grow in their faith\, and create lasting memories. \nSponsor a child now: https://dfwnewbeginnings.churchcenter.com/registrations/events/3545513
URL:https://newbeginnings.org/event/kid-city-summer-camp-2026-rain-forest-falls/2026-06-03/
LOCATION:DFW New Beginnings Church
ATTACH;FMTTYPE=image/png:https://newbeginnings.org/wp-content/uploads/2026/03/Kid-CIty-Camp-2026_Lobby.png
END:VEVENT
BEGIN:VEVENT
DTSTART;TZID=America/Chicago:20260604T093000
DTEND;TZID=America/Chicago:20260604T143000
DTSTAMP:20260419T181504
CREATED:20260330T192151Z
LAST-MODIFIED:20260330T192302Z
UID:10005495-1780565400-1780583400@newbeginnings.org
SUMMARY:Kid City Summer Camp 2026 - Rain Forest Falls
DESCRIPTION:Kid City Summer Camp 2026: Rainforest Falls – Exploring the Nature of God is an exciting\, faith-filled adventure where kids will discover who God is through powerful teachings\, worship\, and fun activities. \nRegister your child now: https://dfwnewbeginnings.churchcenter.com/registrations/events/3545586 \nSponsor a Child – Kid City Camp 2026 is a chance to help a child experience an unforgettable week at camp. When you sponsor\, your generosity makes it possible for a child to attend\, grow in their faith\, and create lasting memories. \nSponsor a child now: https://dfwnewbeginnings.churchcenter.com/registrations/events/3545513
URL:https://newbeginnings.org/event/kid-city-summer-camp-2026-rain-forest-falls/2026-06-04/
LOCATION:DFW New Beginnings Church
ATTACH;FMTTYPE=image/png:https://newbeginnings.org/wp-content/uploads/2026/03/Kid-CIty-Camp-2026_Lobby.png
END:VEVENT
END:VCALENDAR