BEGIN:VCALENDAR
VERSION:2.0
PRODID:-//New Beginnings - ECPv6.15.20//NONSGML v1.0//EN
CALSCALE:GREGORIAN
METHOD:PUBLISH
X-WR-CALNAME:New Beginnings
X-ORIGINAL-URL:https://newbeginnings.org
X-WR-CALDESC:Events for New Beginnings
REFRESH-INTERVAL;VALUE=DURATION:PT1H
X-Robots-Tag:noindex
X-PUBLISHED-TTL:PT1H
BEGIN:VTIMEZONE
TZID:America/Chicago
BEGIN:DAYLIGHT
TZOFFSETFROM:-0600
TZOFFSETTO:-0500
TZNAME:CDT
DTSTART:20250309T080000
END:DAYLIGHT
BEGIN:STANDARD
TZOFFSETFROM:-0500
TZOFFSETTO:-0600
TZNAME:CST
DTSTART:20251102T070000
END:STANDARD
BEGIN:DAYLIGHT
TZOFFSETFROM:-0600
TZOFFSETTO:-0500
TZNAME:CDT
DTSTART:20260308T080000
END:DAYLIGHT
BEGIN:STANDARD
TZOFFSETFROM:-0500
TZOFFSETTO:-0600
TZNAME:CST
DTSTART:20261101T070000
END:STANDARD
BEGIN:DAYLIGHT
TZOFFSETFROM:-0600
TZOFFSETTO:-0500
TZNAME:CDT
DTSTART:20270314T080000
END:DAYLIGHT
BEGIN:STANDARD
TZOFFSETFROM:-0500
TZOFFSETTO:-0600
TZNAME:CST
DTSTART:20271107T070000
END:STANDARD
END:VTIMEZONE
BEGIN:VEVENT
DTSTART;TZID=America/Chicago:20260419T090000
DTEND;TZID=America/Chicago:20260419T094500
DTSTAMP:20260419T162008
CREATED:20260401T153529Z
LAST-MODIFIED:20260401T153816Z
UID:10005922-1776589200-1776591900@newbeginnings.org
SUMMARY:Sunday Morning Leadership
DESCRIPTION:Join us for our Sunday Morning Leadership Class this April as we dive into a powerful and practical series titled “The 7 Places Jesus Shed His Blood.” Together\, we will identify the obstacles\, fears\, and spiritual battles that can hinder our growth and leadership.
URL:https://newbeginnings.org/event/sunday-morning-leadership-3-2/2026-04-19/
LOCATION:DFW New Beginnings Church
ATTACH;FMTTYPE=image/png:https://newbeginnings.org/wp-content/uploads/2026/04/Sunday-Morning-Leadership-Apr_Slide.png
END:VEVENT
BEGIN:VEVENT
DTSTART;TZID=America/Chicago:20260412T090000
DTEND;TZID=America/Chicago:20260412T094500
DTSTAMP:20260419T162008
CREATED:20260401T153529Z
LAST-MODIFIED:20260401T153816Z
UID:10005921-1775984400-1775987100@newbeginnings.org
SUMMARY:Sunday Morning Leadership
DESCRIPTION:Join us for our Sunday Morning Leadership Class this April as we dive into a powerful and practical series titled “The 7 Places Jesus Shed His Blood.” Together\, we will identify the obstacles\, fears\, and spiritual battles that can hinder our growth and leadership.
URL:https://newbeginnings.org/event/sunday-morning-leadership-3-2/2026-04-12/
LOCATION:DFW New Beginnings Church
ATTACH;FMTTYPE=image/png:https://newbeginnings.org/wp-content/uploads/2026/04/Sunday-Morning-Leadership-Apr_Slide.png
END:VEVENT
BEGIN:VEVENT
DTSTART;TZID=America/Chicago:20260405T100000
DTEND;TZID=America/Chicago:20260405T113000
DTSTAMP:20260419T162008
CREATED:20260305T190318Z
LAST-MODIFIED:20260305T190318Z
UID:10005423-1775383200-1775388600@newbeginnings.org
SUMMARY:Easter Service: Life is Here
DESCRIPTION:Celebrate the Resurrection with us this Easter – where the story of Jesus comes to life through powerful testimonies from our own church family.
URL:https://newbeginnings.org/event/easter-service-life-is-here/
LOCATION:DFW New Beginnings Church
ATTACH;FMTTYPE=image/png:https://newbeginnings.org/wp-content/uploads/2026/03/Life-is-Here_Slide-2-scaled.png
END:VEVENT
BEGIN:VEVENT
DTSTART;TZID=America/Chicago:20260405T090000
DTEND;TZID=America/Chicago:20260405T094500
DTSTAMP:20260419T162008
CREATED:20260401T153529Z
LAST-MODIFIED:20260401T153816Z
UID:10005421-1775379600-1775382300@newbeginnings.org
SUMMARY:Sunday Morning Leadership
DESCRIPTION:Join us for our Sunday Morning Leadership Class this April as we dive into a powerful and practical series titled “The 7 Places Jesus Shed His Blood.” Together\, we will identify the obstacles\, fears\, and spiritual battles that can hinder our growth and leadership.
URL:https://newbeginnings.org/event/sunday-morning-leadership-3-2/2026-04-05/
LOCATION:DFW New Beginnings Church
ATTACH;FMTTYPE=image/png:https://newbeginnings.org/wp-content/uploads/2026/04/Sunday-Morning-Leadership-Apr_Slide.png
END:VEVENT
END:VCALENDAR